BEGIN:VCALENDAR
VERSION:2.0
PRODID:-//ChamberMaster//Event Calendar 2.0//EN
METHOD:PUBLISH
X-PUBLISHED-TTL:P3D
REFRESH-INTERVAL:P3D
CALSCALE:GREGORIAN
BEGIN:VEVENT
DTSTART:20210215T150000Z
DTEND:20210215T160000Z
X-MICROSOFT-CDO-ALLDAYEVENT:FALSE
SUMMARY:Virtual Meet and Greet
DESCRIPTION:Grab your morning beverage and join us for a Virtual Meet and Greet. \n\n\n\nOver the past year we have welcomed MANY new members. We would love for everyone (new and longtime members) to join us. We ask that you come ready to give a one minute "commercial" of who you are\, why you are here and what your business is. \n\nWe want you to network and get to know one another. We want to know you!\n\n\n\nZoom Link:  https://zoom.us/j/93655261025\n\n\n\n\n\n\n\n\n\nThank you to Morris Nilsen Funeral Chapel for letting us use your Zoom account to host this event.
X-ALT-DESC;FMTTYPE=text/html:<p><strong>Grab your morning beverage and join us for a Virtual Meet and Greet. </strong><br />\n<br />\nOver the past year we have welcomed MANY new members. We would love for everyone (new and longtime members) to join us. We ask that you come ready to give a one minute &quot\;commercial&quot\; of who you are\, why you are here and what your business is.&nbsp\;</p>\n\n<p><em>We want you to network and get to know one another. We want to know you!</em><br />\n<br />\n<u><strong>Zoom Link:</strong></u><em>&nbsp\;&nbsp\;</em><a href="https://zoom.us/j/93655261025">https://zoom.us/j/93655261025</a><br />\n<br />\n<br />\n<br />\n<br />\nThank you to Morris Nilsen Funeral Chapel for letting us use your Zoom account to host this event.</p>\n
LOCATION:From your home\, work or place of relaxation. Anywhere!
UID:e.1823.5283
SEQUENCE:3
DTSTAMP:20260424T202135Z
URL:https://directory.richfieldmnchamber.org/events/details/virtual-meet-and-greet-5283
END:VEVENT

END:VCALENDAR
