BEGIN:VCALENDAR
VERSION:2.0
PRODID:-//ChamberMaster//Event Calendar 2.0//EN
METHOD:PUBLISH
X-PUBLISHED-TTL:P3D
REFRESH-INTERVAL:P3D
CALSCALE:GREGORIAN
BEGIN:VEVENT
DTSTART:20240518T150000Z
DTEND:20240530T210000Z
X-MICROSOFT-CDO-ALLDAYEVENT:FALSE
SUMMARY:U.S. Army Richfield Recruiting Station Blood Drive
DESCRIPTION:Come help support the community by giving blood to those who need it most. This is a free event and free sign up. Visit: RedCrossBlood.org and enter: Richfield Recruiting to schedule an appointment today!
X-ALT-DESC;FMTTYPE=text/html:Come help support the community by giving blood to those who need it most. This is a free event and free sign up. Visit: RedCrossBlood.org and enter: Richfield Recruiting to schedule an appointment today!
LOCATION:6609 Nicollet Ave S\, Richfield\, MN 55423
UID:e.1823.6800
SEQUENCE:3
DTSTAMP:20260422T074903Z
URL:https://directory.richfieldmnchamber.org/events/details/u-s-army-richfield-recruiting-station-blood-drive-6800
END:VEVENT

END:VCALENDAR
