BEGIN:VCALENDAR
VERSION:2.0
PRODID:-//ChamberMaster//Event Calendar 2.0//EN
METHOD:PUBLISH
X-PUBLISHED-TTL:P3D
REFRESH-INTERVAL:P3D
CALSCALE:GREGORIAN
BEGIN:VEVENT
DTSTART:20210722T210000Z
DTEND:20210722T230000Z
X-MICROSOFT-CDO-ALLDAYEVENT:FALSE
SUMMARY:Summer Soiree
DESCRIPTION:Help Friendship Village of Bloomington celebrate the opening of the brand-new assisted living and memory care over drinks with their Signature Cocktail and appetizers with like-minded professionals.\n\n\n\nPlus\, discover their upcoming plans for skilled nursing.\n\n\n\nThere will be a giveaway prize!\n\n\n\nRSVP to Linay McCrady at linay.mccrady@lifespacecommunities.com or 952-646-9100
X-ALT-DESC;FMTTYPE=text/html:Help Friendship Village of Bloomington celebrate the opening of the brand-new assisted living and memory care over drinks with their Signature Cocktail and appetizers with like-minded professionals.<br />\n<br />\nPlus\, discover their upcoming plans for skilled nursing.<br />\n<br />\nThere will be a giveaway prize!<br />\n<br />\nRSVP to Linay McCrady at linay.mccrady@lifespacecommunities.com or 952-646-9100
LOCATION:Friendship Village of Bloomington 8100 Highwood Drive Bloomington\, MN 55438
UID:e.1823.5679
SEQUENCE:3
DTSTAMP:20260424T131740Z
URL:https://directory.richfieldmnchamber.org/events/details/summer-soiree-5679
END:VEVENT

END:VCALENDAR
