BEGIN:VCALENDAR
VERSION:2.0
PRODID:-//ChamberMaster//Event Calendar 2.0//EN
METHOD:PUBLISH
X-PUBLISHED-TTL:P3D
REFRESH-INTERVAL:P3D
CALSCALE:GREGORIAN
BEGIN:VEVENT
DTSTART:20240504T170000Z
DTEND:20240504T210000Z
X-MICROSOFT-CDO-ALLDAYEVENT:FALSE
SUMMARY:Save the Bartholomew House
DESCRIPTION:Help us continue to restore Richfield's oldest standing house by signing our letter of support. \n\n\n\n50/50 Raffle\, House Tours\, Lawn Games and more! \n\nSpecial Guest: Candice Wheeler from 92 KQRS
X-ALT-DESC;FMTTYPE=text/html:<p>Help us continue to restore Richfield&#39\;s oldest standing house by signing our letter of support.&nbsp\;<br />\n<br />\n50/50 Raffle\, House Tours\, Lawn Games and more!&nbsp\;</p>\n\n<p>Special Guest: Candice Wheeler from 92 KQRS</p>\n
LOCATION:Richfield Historical Society 6901 Lyndale Avenue South Richfield\, MN 55423
UID:e.1823.6797
SEQUENCE:3
DTSTAMP:20260422T090129Z
URL:https://directory.richfieldmnchamber.org/events/details/save-the-bartholomew-house-6797
END:VEVENT

END:VCALENDAR
