BEGIN:VCALENDAR
VERSION:2.0
PRODID:-//ChamberMaster//Event Calendar 2.0//EN
METHOD:PUBLISH
X-PUBLISHED-TTL:P3D
REFRESH-INTERVAL:P3D
CALSCALE:GREGORIAN
BEGIN:VEVENT
DTSTART:20240409T233000Z
DTEND:20240410T010000Z
X-MICROSOFT-CDO-ALLDAYEVENT:FALSE
SUMMARY:Ribbon Cutting with Richfield Chiropractic Injury & Wellness Clinic
DESCRIPTION:Dr. Jack Sturos\, DC is hosting a ribbon cutting ceremony for the grand opening of his new business\, Richfield Chiropractic Injury & Wellness Clinic. There will be snacks and drinks provided\, as well as a raffle for prizes! He is excited to show people his space and share what evidence based chiropractic care can do for people in discomfort! The first 25 people that arrive receive a $25 voucher to be used for a new patient appointment! He looks forward to meeting all of you!
X-ALT-DESC;FMTTYPE=text/html:Dr. Jack Sturos\, DC is hosting a ribbon cutting ceremony for the grand opening of his new business\, Richfield Chiropractic Injury &amp\; Wellness Clinic. There will be snacks and drinks provided\, as well as a raffle for prizes! He is excited to show people his space and share what evidence based chiropractic care can do for people in discomfort! The first 25 people that arrive receive a $25 voucher to be used for a new patient appointment! He looks forward to meeting all of you!
LOCATION:
UID:e.1823.6795
SEQUENCE:3
DTSTAMP:20260422T104534Z
URL:https://directory.richfieldmnchamber.org/events/details/ribbon-cutting-with-richfield-chiropractic-injury-wellness-clinic-6795
END:VEVENT

END:VCALENDAR
