BEGIN:VCALENDAR
VERSION:2.0
PRODID:-//ChamberMaster//Event Calendar 2.0//EN
METHOD:PUBLISH
X-PUBLISHED-TTL:P3D
REFRESH-INTERVAL:P3D
CALSCALE:GREGORIAN
BEGIN:VEVENT
DTSTART;VALUE=DATE:20210303
DTEND;VALUE=DATE:20210304
TRANSP:TRANSPARENT
X-MICROSOFT-CDO-ALLDAYEVENT:TRUE
SUMMARY:Ribbon Cutting - Foss Swim School
DESCRIPTION:Come to help us welcome Foss Swim School to our community. See what?s happening here and find reasons to hit the water at our NEW local Foss Swim School. Classes will start the following Sunday but we are here to support them and get an advanced look into their world of water! \n\n\n\nFoss Swim School will be giving out goodie bags to all those who attend!
X-ALT-DESC;FMTTYPE=text/html:Come to help us welcome Foss Swim School to our community.&nbsp\;See what?s happening here and find reasons to hit the water at our NEW local Foss Swim School. Classes will start the following Sunday but we are here to support them and get an advanced look into their world of water!&nbsp\;<br />\n<br />\nFoss Swim School will be giving out goodie bags to all those who attend!&nbsp\;
LOCATION:Foss Swim School 2902 W 66th St W Richfield\, MN 55423
UID:e.1823.5413
SEQUENCE:3
DTSTAMP:20260424T202028Z
URL:https://directory.richfieldmnchamber.org/events/details/ribbon-cutting-foss-swim-school-5413
END:VEVENT

END:VCALENDAR
