BEGIN:VCALENDAR
VERSION:2.0
PRODID:-//ChamberMaster//Event Calendar 2.0//EN
METHOD:PUBLISH
X-PUBLISHED-TTL:P3D
REFRESH-INTERVAL:P3D
CALSCALE:GREGORIAN
BEGIN:VEVENT
DTSTART:20231014T200000Z
DTEND:20231014T230000Z
X-MICROSOFT-CDO-ALLDAYEVENT:FALSE
SUMMARY:Morris Nilsen's Community Trunk or Treat
DESCRIPTION:
X-ALT-DESC;FMTTYPE=text/html:
LOCATION:Morris Nilsen Chapel 6527 Portland Avenue Richfield\, MN 55423
UID:e.1823.6647
SEQUENCE:3
DTSTAMP:20260422T194850Z
URL:https://directory.richfieldmnchamber.org/events/details/morris-nilsen-s-community-trunk-or-treat-6647
END:VEVENT

END:VCALENDAR
