BEGIN:VCALENDAR
VERSION:2.0
PRODID:-//ChamberMaster//Event Calendar 2.0//EN
METHOD:PUBLISH
X-PUBLISHED-TTL:P3D
REFRESH-INTERVAL:P3D
CALSCALE:GREGORIAN
BEGIN:VEVENT
DTSTART:20210615T164500Z
DTEND:20210615T174500Z
X-MICROSOFT-CDO-ALLDAYEVENT:FALSE
SUMMARY:Lunch and Learn
DESCRIPTION:Speaker: Linay McCrady of Friendship Village of Bloomington\n\n\n\nOn the 3rd Tuesday of each month\, we will gather for a Lunch and Learn. \n\n\n\nWe will have a guest speaker at a local restaurant. This is an opportunity to build each other up by learning about our local businesses\, our community and our neighbors. The speaker will present for 15-20 minutes on a topic they are fluent in. Following their presentation\, you will be able to socialize and network with other members.
X-ALT-DESC;FMTTYPE=text/html:<span style="font-size:14px\;"><span style="font-family:verdana\;"><strong>Speaker: Linay McCrady of Friendship Village of Bloomington</strong></span></span><br />\n<br />\nOn the 3rd Tuesday of each month\, we will gather for a Lunch and Learn.&nbsp\;<br />\n<br />\nWe will have a guest speaker at a local restaurant. This is an opportunity to build each other up by learning about our local businesses\, our community and our neighbors. The speaker will present for 15-20 minutes on a topic they are fluent in. Following their presentation\, you will be able to socialize and network with other members.&nbsp\;
LOCATION:Flynn's Eats 6600 Penn Ave S #1000 Richfield\, MN 55423
UID:e.1823.4888
SEQUENCE:3
DTSTAMP:20260424T132149Z
URL:https://directory.richfieldmnchamber.org/events/details/lunch-and-learn-06-15-2021-4888
END:VEVENT

END:VCALENDAR
