BEGIN:VCALENDAR
VERSION:2.0
PRODID:-//ChamberMaster//Event Calendar 2.0//EN
METHOD:PUBLISH
X-PUBLISHED-TTL:P3D
REFRESH-INTERVAL:P3D
CALSCALE:GREGORIAN
BEGIN:VEVENT
DTSTART:20231012T210000Z
DTEND:20231012T230000Z
X-MICROSOFT-CDO-ALLDAYEVENT:FALSE
SUMMARY:Learn about the I-494 road construction project during Oct. 12 open house
DESCRIPTION:Learn about the I-494 road construction project\n\nduring Oct. 12 open house\n\n \n\nCommuter Services and its governing board\, the I-494 Corridor Commission\, welcome the public\, commuters\, employers\, and elected officials to the I-494 Construction Open House on\n\nThursday\, Oct. 12\, 4-6 p.m.\n\n\n\nThe event will be held at Commuter Services' office\, 7101 York Ave. S.\, in Edina.\n\n \n\nMnDOT construction officials will be on hand to share plans\, dates and details about the I-494 Edina\, Richfield\, Bloomington project\, which started construction in June and continues through fall 2026. This project is the first of four that will be phased in between the MSP International Airport and Highway 169 over the next several years. It includes the addition of E-ZPass lanes\, bridge improvements\, a new pedestrian bridge\, and construction of a new turbine interchange at I-35W and I-494.\n\n \n\nCommuter Services will share resources to help commuters and motorists navigate the construction zone. Free information on carpooling\, vanpooling\, bus and light rail transit\, bike commuting\, and working from home will be available for all visitors.\n\n \n\nAttendees will receive free transit passes\, bike maps and food truck fare while food and supplies last. Edina Mayor Jim Hovland\, Richfield Mayor Mary Supple and Hennepin County Commissioner Debbie Goettel will give short remarks at 5 p.m.\n\n \n\nFor more information\, contact I-494 Corridor Commission/Commuter Services Executive Director Melissa Madison by email\, melissa@494corridor.org\, or by calling 952-405-9425.
X-ALT-DESC;FMTTYPE=text/html:<span style="font-size:24px"><strong>Learn about the I-494 road construction project<br />\nduring Oct. 12 open house</strong></span><br />\n&nbsp\;<br />\nCommuter Services and its governing board\, the I-494 Corridor Commission\, welcome the public\, commuters\, employers\, and elected officials to the I-494 Construction Open House on<br />\n<span style="font-size:18px">Thursday\, Oct. 12\, 4-6 p.m</span>.<br />\n<br />\nThe event will be held at Commuter Services&rsquo\; office\, 7101 York Ave. S.\, in Edina.<br />\n&nbsp\;<br />\nMnDOT construction officials will be on hand to share plans\, dates and details about the I-494 Edina\, Richfield\, Bloomington project\, which started construction in June and continues through fall 2026. This project is the first of four that will be phased in between the MSP International Airport and Highway 169 over the next several years. It includes the addition of E-ZPass lanes\, bridge improvements\, a new pedestrian bridge\, and construction of a new turbine interchange at I-35W and I-494.<br />\n&nbsp\;<br />\nCommuter Services will share resources to help commuters and motorists navigate the construction zone. Free information on carpooling\, vanpooling\, bus and light rail transit\, bike commuting\, and working from home will be available for all visitors.<br />\n&nbsp\;<br />\nAttendees will receive free transit passes\, bike maps and food truck fare while food and supplies last. Edina Mayor Jim Hovland\, Richfield Mayor Mary Supple and Hennepin County Commissioner Debbie Goettel will give short remarks at 5 p.m.<br />\n&nbsp\;<br />\nFor more information\, contact I-494 Corridor Commission/Commuter Services Executive Director Melissa Madison by email\,<span style="color:#FFFF00">&nbsp\;</span><a href="mailto:melissa@494corridor.org" target="_blank"><span style="color:#FFFF00">melissa@494corridor.org</span></a>\, or by calling 952-405-9425.
LOCATION:
UID:e.1823.6645
SEQUENCE:3
DTSTAMP:20260422T183028Z
URL:https://directory.richfieldmnchamber.org/events/details/learn-about-the-i-494-road-construction-project-during-oct-12-open-house-6645
END:VEVENT

END:VCALENDAR
