BEGIN:VCALENDAR
VERSION:2.0
PRODID:-//ChamberMaster//Event Calendar 2.0//EN
METHOD:PUBLISH
X-PUBLISHED-TTL:P3D
REFRESH-INTERVAL:P3D
CALSCALE:GREGORIAN
BEGIN:VEVENT
DTSTART:20231207T223000Z
DTEND:20231208T010000Z
X-MICROSOFT-CDO-ALLDAYEVENT:FALSE
SUMMARY:Holiday Party 2023!
DESCRIPTION:Come celebrate with The Richfield Chamber of Commerce as we gather to reflect on the successes of 2023 and plan for 2024!\n\n\n\nVinocopia will serve us an excellent assortment of wine and canned cocktails. Light appetizers will be served. Come ready to mingle with members and celebrate the successes of 2023!\n\n\n\nAll wines/canned cocktails sampled will be available for pick-up at the Richfield Liquor Store\, next to Vinocopia\, with special Chamber member pricing. Perfect for stocking the bar for the holidays!\n\n\n\nWe will being hosting a Gift Card Tree. You can buy a ticket for a chance to pull a Gift Card off of the tree! Tickets are $5 cash or 6 tickets for $25. Gift Cards on the tree will be valued $5 or more!\n\n\n\nDon't forget to bring Socks\, Boots\, Coats\, Hoodies\, Hats\, Scarves\, Gloves\, Mittens\, Snow Pants\, Jeans and/or Leggings to help support the Winter Clothing Drive. \n\n\n\nLight appetizers will be hosted by Protagonist Kitchen and Bar.\n\n\n\nCookie decorating will be hosted by Blue Hippo Bakery.\n\n\n\n"Richfield Stories" a book compiled by Terry Ahlstrom\, will be available to purchase from the Spartan Foundation.\n\n\n\nAfter picking up your specially priced products\, head on over to Sandy's Tavern where we will continue the party for anyone who wishes to join!
X-ALT-DESC;FMTTYPE=text/html:<span style="font-size:12px\;"><span style="font-family:verdana\;"><span style="color: rgb(51\, 51\, 51)\; background-color: rgb(255\, 255\, 255)\;">Come celebrate with The Richfield Chamber of Commerce as we gather to reflect on the successes of 2023 and plan for 2024!<br />\n<br />\nVinocopia will serve us an excellent assortment of wine and canned cocktails. Light appetizers will be served. Come ready to mingle with members and celebrate the successes of 2023!</span><br style="color: rgb(51\, 51\, 51)\; font-family: sans-serif\, Arial\, Verdana\, &quot\;Trebuchet MS&quot\;\; font-size: 13px\;" />\n<br style="color: rgb(51\, 51\, 51)\; font-family: sans-serif\, Arial\, Verdana\, &quot\;Trebuchet MS&quot\;\; font-size: 13px\;" />\n<span style="background-color: rgb(255\, 255\, 255)\;">All wines/canned cocktails sampled will be available for pick-up at the Richfield Liquor Store\, next to Vinocopia\, with special Chamber member pricing. Perfect for stocking the bar for the holidays!<br />\n<br />\nWe will being hosting a Gift Card Tree. You can buy a ticket for a chance to pull a Gift Card off of the tree! Tickets are $5 cash or 6 tickets for $25. Gift Cards on the tree will be valued $5 or more!</span></span></span><br />\n<br />\nDon&#39\;t forget to bring Socks\, Boots\, Coats\, Hoodies\, Hats\, Scarves\, Gloves\, Mittens\, Snow Pants\, Jeans and/or Leggings to help support the Winter Clothing Drive.&nbsp\;<br />\n<br />\n<span style="font-size:12px\;"><span style="font-family:verdana\;"><span style="background-color: rgb(255\, 255\, 255)\;">Light appetizers will be hosted by Protagonist Kitchen and Bar.<br />\n<br />\nCookie decorating will be hosted by Blue Hippo Bakery.</span></span></span><br />\n<br />\n<span style="color: rgb(34\, 34\, 34)\; font-family: Arial\, Helvetica\, sans-serif\; font-size: small\;">&ldquo\;Richfield Stories&rdquo\; a book compiled by Terry Ahlstrom\, will be available to purchase from the&nbsp\;</span><span style="font-size:12px\;"><span style="font-family:verdana\;"><span style="background-color: rgb(255\, 255\, 255)\;">Spartan Foundation.<br />\n<br />\nAfter picking up your specially priced products\, head on over to Sandy&#39\;s Tavern where we will continue the party for anyone who wishes to join!&nbsp\;</span></span></span>
LOCATION:Vinocopia Inc 6636 Cedar Ave S Suite 300 Richfield\, MN 55423 *please use the Vinocopia parking ramp at the back of the building Must be 21+ to attend
UID:e.1823.6634
SEQUENCE:3
DTSTAMP:20260422T170842Z
URL:https://directory.richfieldmnchamber.org/events/details/holiday-party-2023-6634
END:VEVENT

END:VCALENDAR
