BEGIN:VCALENDAR
VERSION:2.0
PRODID:-//ChamberMaster//Event Calendar 2.0//EN
METHOD:PUBLISH
X-PUBLISHED-TTL:P3D
REFRESH-INTERVAL:P3D
CALSCALE:GREGORIAN
BEGIN:VEVENT
DTSTART:20210818T150000Z
DTEND:20210819T040000Z
X-MICROSOFT-CDO-ALLDAYEVENT:FALSE
SUMMARY:History of Businesses in Richfield - CANCELLED
DESCRIPTION:EVENT CANCELLED\n\n\n\nRichfield Historical Society invites you to a History Forum on the\n\n\n\nHistory of Businesses in Richfield\n\n\n\nWednesday\, August 18 at 10 AM
X-ALT-DESC;FMTTYPE=text/html:<br />\n<span style="font-family:playfair display\,georgia\,times new roman\,serif\;"><span style="color:#008080\;"><span style="font-size:17px\;">EVENT CANCELLED<br />\n<br />\nRichfield Historical Society invites you to a History Forum on the</span><br />\n<br />\n<span style="font-size:32px\;">History of Businesses in Richfield</span><br />\n<br />\n<span style="font-size:24px\;">Wednesday\, August 18 at 10 AM</span></span></span><br />\n<br />\n&nbsp\;
LOCATION:6901 Lyndale Avenue South Richfield\, MN 55423
UID:e.1823.5819
SEQUENCE:3
DTSTAMP:20260424T113640Z
URL:https://directory.richfieldmnchamber.org/events/details/history-of-businesses-in-richfield-cancelled-5819
END:VEVENT

END:VCALENDAR
