BEGIN:VCALENDAR
VERSION:2.0
PRODID:-//ChamberMaster//Event Calendar 2.0//EN
METHOD:PUBLISH
X-PUBLISHED-TTL:P3D
REFRESH-INTERVAL:P3D
CALSCALE:GREGORIAN
BEGIN:VEVENT
DTSTART:20240221T010000Z
DTEND:20240221T020000Z
X-MICROSOFT-CDO-ALLDAYEVENT:FALSE
SUMMARY:History After Dark
DESCRIPTION:History After Dark\n\n\n\nTopic: The "Spas" of Richfield \n\n\n\n\n\nWhile enjoying the program and great food\, you are helping the Richfield Historical Society as 10% of the night's food sales go to RHS.
X-ALT-DESC;FMTTYPE=text/html:<span style="font-size:28px\;"><span style="font-family:times new roman\;"><strong>History After Dark</strong></span></span><br />\n<br />\n<span style="font-size:16px\;"><em>Topic: The &quot\;Spas&quot\; of Richfield&nbsp\;</em></span><br />\n<br />\n<br />\nWhile enjoying the program and great food\, you are helping the Richfield Historical Society as 10% of the night&#39\;s food sales go to RHS.
LOCATION:Sandy's Tavern 6612 Penn Ave S\, Richfield\, MN 55423
UID:e.1823.6791
SEQUENCE:3
DTSTAMP:20260422T140651Z
URL:https://directory.richfieldmnchamber.org/events/details/history-after-dark-6791
END:VEVENT

END:VCALENDAR
