BEGIN:VCALENDAR
VERSION:2.0
PRODID:-//ChamberMaster//Event Calendar 2.0//EN
METHOD:PUBLISH
X-PUBLISHED-TTL:P3D
REFRESH-INTERVAL:P3D
CALSCALE:GREGORIAN
BEGIN:VEVENT
DTSTART:20231005T133000Z
DTEND:20231005T190000Z
X-MICROSOFT-CDO-ALLDAYEVENT:FALSE
SUMMARY:GrowthCLUB
DESCRIPTION:Marty Rasmussen\, Executive Coach at ActionCOACH and member of the Richfield Chamber\, is presenting GrowthCLUB   Finish the Year Strong! A 90-Day Strategic Planning Session.\n \n\nLearn how to stop working IN your business and how to start working ON it.  You'll learn how to brainstorm goals\, narrow them down\, and develop strategies to make them happen\, all with the assistance of our experienced coaching team. Walk away with a plan of action for driving true business growth\, guaranteed!  \n\n \n\n\nThe QRC code includes a chamber member discount of 30%.
X-ALT-DESC;FMTTYPE=text/html:<div style="font-family: Calibri\, Arial\, Helvetica\, sans-serif\; font-size: 12pt\; color: rgb(0\, 0\, 0)\;">Marty Rasmussen\, Executive Coach at ActionCOACH and member of the Richfield Chamber\, is presenting GrowthCLUB &ndash\; Finish the Year Strong! A 90-Day Strategic Planning Session.\n<div>&nbsp\;</div>\n\n<div>Learn how to stop working IN your business and how to start working ON it. &nbsp\;You&rsquo\;ll learn how to brainstorm goals\, narrow them down\, and develop strategies to make them happen\, all with the assistance of our experienced coaching team. Walk away with a plan of action for driving true business growth\, guaranteed! &nbsp\;<br />\n&nbsp\;</div>\n</div>\n\n<div style="font-family: Calibri\, Arial\, Helvetica\, sans-serif\; font-size: 12pt\; color: rgb(0\, 0\, 0)\;">The QRC code includes a chamber member discount of 30%.&nbsp\;&nbsp\;</div>\n
LOCATION:New Horizons 2915 Commers Drive Suite 500 Eagan\, MN 55121
UID:e.1823.6636
SEQUENCE:3
DTSTAMP:20260422T182915Z
URL:https://directory.richfieldmnchamber.org/events/details/growthclub-6636
END:VEVENT

END:VCALENDAR
