BEGIN:VCALENDAR
VERSION:2.0
PRODID:-//ChamberMaster//Event Calendar 2.0//EN
METHOD:PUBLISH
X-PUBLISHED-TTL:P3D
REFRESH-INTERVAL:P3D
CALSCALE:GREGORIAN
BEGIN:VEVENT
DTSTART:20240208T230000Z
DTEND:20240209T020000Z
X-MICROSOFT-CDO-ALLDAYEVENT:FALSE
SUMMARY:Grand Opening & Open House - Swoop Eye Care
DESCRIPTION:We are delighted to announce the Grand Opening of Swoop Eye Care\, a cutting-edge optometry clinic offering comprehensive eye exams\, neuro-optometric evaluations/services\, specialty contact lenses\, special testing\, and pediatric eye care. Our clinic works alongside our partner\, NeuVision Therapy & Rehabilitation\, a vision therapy clinic dedicated to the wellness of all patients with binocular vision dysfunctions and/or traumatic brain injury rehabilitation.\n\n\n\nJoin us for our Open House event to meet our team that will also include guided tours\, refreshments\, and raffle prizes (including a prescription pair of glasses\, and other items) as well as a chance to explore our optical featuring local ophthalmic frame vendors.\n\n\n\nAt Swoop Eye Care\, our commitment extends to serving every member of our community. Our mission is to deliver the highest level of eye care. We look forward to welcoming you to Swoop Eye Care and sharing the vision of a healthier community through comprehensive eye care.
X-ALT-DESC;FMTTYPE=text/html:We are delighted to announce the Grand Opening of Swoop Eye Care\, a cutting-edge optometry clinic offering comprehensive eye exams\, neuro-optometric evaluations/services\, specialty contact lenses\, special testing\, and pediatric eye care. Our clinic works alongside our partner\, NeuVision Therapy &amp\; Rehabilitation\, a vision therapy clinic dedicated to the wellness of all patients with binocular vision dysfunctions and/or traumatic brain injury rehabilitation.<br />\n<br />\nJoin us for our Open House event to meet our team that will also include guided tours\, refreshments\, and raffle prizes (including a prescription pair of glasses\, and other items) as well as a chance to explore our optical featuring local ophthalmic frame vendors.<br />\n<br />\nAt Swoop Eye Care\, our commitment extends to serving every member of our community. Our mission is to deliver the highest level of eye care. We look forward to welcoming you to Swoop Eye Care and sharing the vision of a healthier community through comprehensive eye care.
LOCATION:Swoop Eye Care\, 817 E 66th Street\, Richfield\, MN 55423
UID:e.1823.6790
SEQUENCE:3
DTSTAMP:20260422T125909Z
URL:https://directory.richfieldmnchamber.org/events/details/grand-opening-open-house-swoop-eye-care-6790
END:VEVENT

END:VCALENDAR
