BEGIN:VCALENDAR
VERSION:2.0
PRODID:-//ChamberMaster//Event Calendar 2.0//EN
METHOD:PUBLISH
X-PUBLISHED-TTL:P3D
REFRESH-INTERVAL:P3D
CALSCALE:GREGORIAN
BEGIN:VEVENT
DTSTART:20240503T163000Z
DTEND:20240503T173000Z
X-MICROSOFT-CDO-ALLDAYEVENT:FALSE
SUMMARY:Commuter Services E-Bikes and Sustainable Transportation
DESCRIPTION:Learn the fundamentals of purchasing e-bikes during May 3 webinar\n\nLearn what to look for and think about when purchasing an electric bicycle by attending Commuter Services' webinar\, E-bikes and Sustainable Transportation\, on Friday\, May 3\, 11:30 a.m. to 12:30 p.m.\n\n \n\nBuying an e-bike is a big process   and a big decision. Presenter Noah Hansen\, coordinator of the Anoka County Commute Solutions program\, has gone through the purchase process himself\, and is ready to share pragmatic advice to consumers looking to purchase an e-bike.\n\n \n\nIn this webinar\, Hansen will cover where   and where not   to purchase e-bikes\, what to expect in maintenance and repair\, gear and accessories for all seasons\, the merits of insuring the new ride\, and other great tips for first-time buyers.\n\n \n\nMinnesota's Electric-Assisted Bicycle (e-Bike) Rebate program will also be covered. Commuter Services and Anoka County Commute Solutions will also provide information on bike commuting\, options for combining bike and transit\, and other sustainable trip information.\n\n \n\nRegister now for E-bikes and Sustainable Transportation. This webinar will be recorded\; presentation slides and a link to the recording for on-demand viewing will be sent to everyone who registers.\n\n \n\nFor more information\, contact Commuter Services Communications and Outreach Manager Michelle Leonard by email to mleonard@494corridor.org\; or call 952-405-9475.
X-ALT-DESC;FMTTYPE=text/html:Learn the fundamentals of purchasing e-bikes during May 3 webinar<br />\nLearn what to look for and think about when purchasing an electric bicycle by attending Commuter Services&rsquo\; webinar\, E-bikes and Sustainable Transportation\, on Friday\, May 3\, 11:30 a.m. to 12:30 p.m.<br />\n&nbsp\;<br />\nBuying an e-bike is a big process &ndash\; and a big decision. Presenter Noah Hansen\, coordinator of the Anoka County Commute Solutions program\, has gone through the purchase process himself\, and is ready to share pragmatic advice to consumers looking to purchase an e-bike.<br />\n&nbsp\;<br />\nIn this webinar\, Hansen will cover where &ndash\; and where not &ndash\; to purchase e-bikes\, what to expect in maintenance and repair\, gear and accessories for all seasons\, the merits of insuring the new ride\, and other great tips for first-time buyers.<br />\n&nbsp\;<br />\nMinnesota&rsquo\;s Electric-Assisted Bicycle (e-Bike) Rebate program will also be covered. Commuter Services and Anoka County Commute Solutions will also provide information on bike commuting\, options for combining bike and transit\, and other sustainable trip information.<br />\n&nbsp\;<br />\nRegister now for E-bikes and Sustainable Transportation. This webinar will be recorded\; presentation slides and a link to the recording for on-demand viewing will be sent to everyone who registers.<br />\n&nbsp\;<br />\nFor more information\, contact Commuter Services Communications and Outreach Manager Michelle Leonard by email to mleonard@494corridor.org\; or call 952-405-9475.
LOCATION:Register Here: https://us02web.zoom.us/webinar/register/WN_nbAu7PmVSkiu7u4wjohlYg#/registration
UID:e.1823.6798
SEQUENCE:3
DTSTAMP:20260422T090806Z
URL:https://directory.richfieldmnchamber.org/events/details/commuter-services-e-bikes-and-sustainable-transportation-6798
END:VEVENT

END:VCALENDAR
