BEGIN:VCALENDAR
VERSION:2.0
PRODID:-//ChamberMaster//Event Calendar 2.0//EN
METHOD:PUBLISH
X-PUBLISHED-TTL:P3D
REFRESH-INTERVAL:P3D
CALSCALE:GREGORIAN
BEGIN:VEVENT
DTSTART:20210311T133000Z
DTEND:20210311T143000Z
X-MICROSOFT-CDO-ALLDAYEVENT:FALSE
SUMMARY:Coffee and Connections with Paul Zilka
DESCRIPTION:Coffee and Connections\n\nSpeaker: Paul Zilka of Woodlake Chiropractic - Healthsource of Richfield\n\n\n\nEvery 2nd Thursday of each month\, members can join together to hear a speaker while enjoying breakfast. Speaker will talk for 15-20 minutes\, following guest are encouraged to make connections with others. \n\n\n\nRemember to bring along business cards to share.
X-ALT-DESC;FMTTYPE=text/html:Coffee and Connections<br>\nSpeaker: Paul Zilka of Woodlake Chiropractic - Healthsource of Richfield<br>\n<br>\nEvery 2nd Thursday of each month\, members can join together to hear a speaker while enjoying breakfast. Speaker will talk for 15-20 minutes\, following guest are encouraged to make connections with others.&nbsp\;<br>\n<br>\nRemember to bring along business cards to share.&nbsp\;
LOCATION:VFW Post 5555 6715 Lake Shore Drive South Richfield\, MN 55423
UID:e.1823.4744
SEQUENCE:3
DTSTAMP:20260424T185835Z
URL:https://directory.richfieldmnchamber.org/events/details/coffee-and-connections-with-paul-zilka-4744
END:VEVENT

END:VCALENDAR
