BEGIN:VCALENDAR
VERSION:2.0
PRODID:-//ChamberMaster//Event Calendar 2.0//EN
METHOD:PUBLISH
X-PUBLISHED-TTL:P3D
REFRESH-INTERVAL:P3D
CALSCALE:GREGORIAN
BEGIN:VEVENT
DTSTART:20250109T133000Z
DTEND:20250109T143000Z
X-MICROSOFT-CDO-ALLDAYEVENT:FALSE
SUMMARY:Coffee and Connections
DESCRIPTION:Coffee and Connections\n\n\n\nStart your day with a boost of energy and inspiration at our Coffee and Connections event! This is a fantastic opportunity for chamber members to come together\, enjoy a delicious breakfast\, and build meaningful relationships within our local community.\n\n\n\nPlease remember to bring along business cards to share with those you meet.
X-ALT-DESC;FMTTYPE=text/html:<strong>Coffee and Connections</strong><br />\n<br />\nStart your day with a boost of energy and inspiration at our Coffee and Connections event! This is a fantastic opportunity for chamber members to come together\, enjoy a delicious breakfast\, and build meaningful relationships within our local community.<br />\n<br />\nPlease remember to bring along business cards to share with those you meet.&nbsp\;
LOCATION:VFW Post 5555 6715 Lake Shore Drive South Richfield\, MN 55423
UID:e.1823.6133
SEQUENCE:3
DTSTAMP:20260419T121110Z
URL:https://directory.richfieldmnchamber.org/events/details/coffee-and-connections-01-09-2025-6133
END:VEVENT

END:VCALENDAR
