BEGIN:VCALENDAR
VERSION:2.0
PRODID:-//ChamberMaster//Event Calendar 2.0//EN
METHOD:PUBLISH
X-PUBLISHED-TTL:P3D
REFRESH-INTERVAL:P3D
CALSCALE:GREGORIAN
BEGIN:VEVENT
DTSTART:20220323T160000Z
DTEND:20220323T180000Z
X-MICROSOFT-CDO-ALLDAYEVENT:FALSE
SUMMARY:Circle of Excellence Awards Ceremony
DESCRIPTION:!!PLEASE READ!! IMPORTANT!!\n\n\n\nFriendship Village will have complementary valet parking.\n\nPlease go to the 8100 Highwood Drive building and drive right up to the main entrance. There will be sings that say valet parking.\n\n\n\nSide Note: if people are trying to park on your own it will be difficult to find a space. They  highly encourage the valet services. Valet should be ready to park people at 10:30!\n\n\n\nJoin us as we celebrate business in Richfield! Due to COVID\, we have been unable to hold this ceremony for the past two years. We are grateful that this year we will be honoring business and community leaders once again. We thank each and every one of our members for their hard work and dedication through these tough and trying times. \n\n\n\nThe Circle of Excellence Awards Ceremony will recognize a business in each of the following categories:\n\n\n\nBusiness of the Year\n\nSmall Business of the Year\n\nNon-Profit of the Year\n\nLarry Farrington Award/Business Leader of the Year\n\nGovernment Service Award\n\nSports Award\n\n\n\nDetails of the awards categories can be found on the Chamber website. We look forward to celebrating the outstanding business leaders in our Richfield community!\n\n\n\n\n\nWe want to thank Friendship Village of Bloomington for sponsoring this award ceremony. We appreciate their care and contribution to make this event happen. Thank you for supporting and giving to our community.
X-ALT-DESC;FMTTYPE=text/html:<span style="font-size: 24px\;">!!PLEASE READ!! IMPORTANT!!</span><br />\n<br />\nFriendship Village will have&nbsp\;<u><strong>complementary&nbsp\;</strong></u>valet parking.<br />\nPlease go to the 8100 Highwood Drive building and drive right up to the main entrance. There will be sings that say valet parking.<br />\n<br />\nSide Note: if people are trying to park on your own it will be difficult to find a space. They&nbsp\; highly encourage the valet services. Valet should be ready to park people at 10:30!<br />\n<br />\n<font color="#8b4513"><span style="font-size: 18px\;">Join us as we celebrate business in Richfield! Due to COVID\, we have been unable to hold this ceremony for the past two years. We are grateful that this year we will be honoring business and community leaders once again. We thank each and every one of our members for their hard work and dedication through these tough and trying times.&nbsp\;<br />\n<br />\nThe Circle of Excellence Awards Ceremony will recognize a business in each of the following categories:</span></font><br />\n<br />\n<span style="color:#8B4513\;"><span style="font-size: 18px\;"><em><span style="font-family:verdana\;">Business of the Year<br />\nSmall Business of the Year<br />\nNon-Profit of the Year<br />\nLarry Farrington Award/Business Leader of the Year<br />\nGovernment Service Award<br />\nSports Award</span></em></span></span><br />\n<br />\n<span style="font-size: 18px\; color: rgb(139\, 69\, 19)\;">Details of the awards categories can be found on the </span><a href="https://www.richfieldmnchamber.org/awards/" style="font-size: 18px\;"><span style="color:#8B4513\;">Chamber website</span></a><span style="font-size: 18px\; color: rgb(139\, 69\, 19)\;">. We look forward to celebrating the outstanding business leaders in our Richfield community!</span><br />\n<br />\n<br />\n<em style="font-size: 18px\;"><span style="font-family:verdana\;"><span style="color:#000080\;">We want to thank </span><a href="https://www.friendshipvillagemn.com/retirement-community-bloomington/?utm_medium=organic&amp\;utm_source=gmb&amp\;utm_campaign=community"><span style="color:#000080\;">Friendship Village of Bloomington</span></a><span style="color:#000080\;"> for sponsoring this award ceremony. We appreciate their care and contribution to make this event happen. Thank you for supporting and giving to our community.&nbsp\;</span></span></em>
LOCATION:Friendship Village of Bloomington 8100 Highwood Drive Bloomington\, MN 55438 !!PLEASE READ!! IMPORTANT!! Friendship Village will have complementary valet parking. Please go to the 8100 Highwood Drive building and drive right up to the main entrance. There will be sings that say valet parking. Side Note: if people are trying to park on your own it will be difficult to find a space. They highly encourage the valet services. Valet should be ready to park people at 10:30!
UID:e.1823.5977
SEQUENCE:3
DTSTAMP:20260421T172209Z
URL:https://directory.richfieldmnchamber.org/events/details/circle-of-excellence-awards-ceremony-5977
END:VEVENT

END:VCALENDAR
