BEGIN:VCALENDAR
VERSION:2.0
PRODID:-//ChamberMaster//Event Calendar 2.0//EN
METHOD:PUBLISH
X-PUBLISHED-TTL:P3D
REFRESH-INTERVAL:P3D
CALSCALE:GREGORIAN
BEGIN:VEVENT
DTSTART:20231012T122500Z
DTEND:20231013T030000Z
X-MICROSOFT-CDO-ALLDAYEVENT:FALSE
SUMMARY:BTYR Networking Breakfast
DESCRIPTION:Date: Thursday\, October 12\, 2023\n\nTime: 8   9 am (registration opens at 7:30 am)\n\nLocation: Executive Center at Mall of America (4th Floor on the East Side of MOA. Park in the East Ramp on levels P4 or P5)\n\nRSVP: BloomingtonVeteransMemorial@gmail.com
X-ALT-DESC;FMTTYPE=text/html:<strong>Date:</strong>&nbsp\;Thursday\, October 12\, 2023<br />\n<strong>Time:</strong>&nbsp\;8 &ndash\; 9 am (registration opens at 7:30 am)<br />\n<strong>Location:</strong>&nbsp\;Executive Center at Mall of America (4<sup>th</sup>&nbsp\;Floor on the East Side of MOA. Park in the East Ramp on levels P4 or P5)<br />\n<strong>RSVP:&nbsp\;</strong><a href="mailto:BloomingtonVeteransMemorial@gmail.com" style="color:rgb(17\, 85\, 204)\;" target="_blank">BloomingtonVeteransMemorial@<wbr />gmail.com</a>
LOCATION:
UID:e.1823.6644
SEQUENCE:3
DTSTAMP:20260422T182850Z
URL:https://directory.richfieldmnchamber.org/events/details/btyr-networking-breakfast-6644
END:VEVENT

END:VCALENDAR
