BEGIN:VCALENDAR
VERSION:2.0
PRODID:-//ChamberMaster//Event Calendar 2.0//EN
METHOD:PUBLISH
X-PUBLISHED-TTL:P3D
REFRESH-INTERVAL:P3D
CALSCALE:GREGORIAN
BEGIN:VEVENT
DTSTART:20240227T220000Z
DTEND:20240228T010000Z
X-MICROSOFT-CDO-ALLDAYEVENT:FALSE
SUMMARY:Body Techs RX Business After Hours
DESCRIPTION:Join in on an evening of fun\, food and networking. With a local partnership\, food from Toma Grill and Champagne & OJ to drink. \n\n\n\nDemonstrations of equipment will be available to see and participate in!\n\n\n\nA discount on packages will be available for anyone with the chamber. \n\n\n\nCheck out Body Techs RX HERE\n\n**Core Treatments: Elevate your well-being with our holistic healing treatments! Discover Cryotherapy\, NormaTec Compression\, Red Light Therapy\, and Local Cryotherapy. \n\n** Body Sculpting: Revolutionize your body with Cryo Slimming! Experience non-invasive contouring and sculpting through cryolipolysis   the art of fat freezing. Target any area for a toned\, tightened\, and transformed you. \n\n** Vitamin IV & Hydration: Energize your life with Vitamin IV Therapy! Our tailored intravenous drips deliver vital nutrients directly into your bloodstream\, catering to your unique wellness needs and aspirations. \n\n** Massage Therapy: Embrace the power of Massage Therapy! Experience reduced tension\, enhanced circulation\, and improved relaxation. Relieve stress\, sleep better\, and support recovery from injuries or chronic conditions. Optimize your well-being in harmony with other Holistic Healing treatments. \n\n\n\nAND NEWLY ADDED!!\n\n**Chiropractic Care & Physical Therapy: Chiropractic care and physical therapy form a powerful duo in promoting health and wellness. Chiropractic focuses on correcting musculoskeletal imbalances\, especially in the spine\, to alleviate pain and improve function. Physical therapy complements this by rehabilitating injuries and enhancing mobility through customized exercises and therapies. Combined\, they offer a holistic treatment approach\, addressing both immediate issues and promoting long-term health. This integrative strategy accelerates recovery\, targets root causes\, and supports lasting well-being.
X-ALT-DESC;FMTTYPE=text/html:Join in on an evening of fun\, food and networking. With a local partnership\, food from Toma Grill and Champagne &amp\; OJ to drink.&nbsp\;<br />\n<br />\nDemonstrations of equipment will be available to see and participate in!<br />\n<br />\n<em><u><strong>A discount on packages will be available for anyone with the chamber.&nbsp\;</strong></u></em><br />\n<br />\nCheck out Body Techs RX&nbsp\;<a href="https://bodytechsrx.com/">HERE</a><br />\n**<strong>Core Treatments</strong>: Elevate your well-being with our holistic healing treatments! Discover Cryotherapy\, NormaTec Compression\, Red Light Therapy\, and Local Cryotherapy.&nbsp\;<br />\n**&nbsp\;<strong>Body Sculpting:</strong> Revolutionize your body with Cryo Slimming! Experience non-invasive contouring and sculpting through cryolipolysis &ndash\; the art of fat freezing. Target any area for a toned\, tightened\, and transformed you.&nbsp\;<br />\n**&nbsp\;<strong>Vitamin IV &amp\; Hydration:</strong> Energize your life with Vitamin IV Therapy! Our tailored intravenous drips deliver vital nutrients directly into your bloodstream\, catering to your unique wellness needs and aspirations.&nbsp\;<br />\n**&nbsp\;<strong>Massage Therapy:</strong> Embrace the power of Massage Therapy! Experience reduced tension\, enhanced circulation\, and improved relaxation. Relieve stress\, sleep better\, and support recovery from injuries or chronic conditions. Optimize your well-being in harmony with other Holistic Healing treatments.&nbsp\;<br />\n<br />\nAND NEWLY ADDED!!<br />\n**<strong>Chiropractic Care &amp\; Physical Therapy:</strong>&nbsp\;Chiropractic care and physical therapy form a powerful duo in promoting health and wellness. Chiropractic focuses on correcting musculoskeletal imbalances\, especially in the spine\, to alleviate pain and improve function. Physical therapy complements this by rehabilitating injuries and enhancing mobility through customized exercises and therapies. Combined\, they offer a holistic treatment approach\, addressing both immediate issues and promoting long-term health. This integrative strategy accelerates recovery\, targets root causes\, and supports lasting well-being.&nbsp\;
LOCATION:Body Techs Rx Wellness and Rehab Center 1415 E 66th Street Richfield\, MN 55423
UID:e.1823.6793
SEQUENCE:3
DTSTAMP:20260422T125821Z
URL:https://directory.richfieldmnchamber.org/events/details/body-techs-rx-business-after-hours-6793
END:VEVENT

END:VCALENDAR
