BEGIN:VCALENDAR
VERSION:2.0
PRODID:-//ChamberMaster//Event Calendar 2.0//EN
METHOD:PUBLISH
X-PUBLISHED-TTL:P3D
REFRESH-INTERVAL:P3D
CALSCALE:GREGORIAN
BEGIN:VEVENT
DTSTART:20240420T180000Z
DTEND:20240420T200000Z
X-MICROSOFT-CDO-ALLDAYEVENT:FALSE
SUMMARY:April's Authors
DESCRIPTION:Get to know some of the authors in Richfield. Enjoy light refreshments while learning about what sparks their creativity.
X-ALT-DESC;FMTTYPE=text/html:Get to know some of the authors in Richfield. Enjoy light refreshments while learning about what sparks their creativity.&nbsp\;
LOCATION:Richfield Historical Society 6901 Lyndale Avenue South Richfield\, MN 55423
UID:e.1823.6796
SEQUENCE:3
DTSTAMP:20260422T104035Z
URL:https://directory.richfieldmnchamber.org/events/details/april-s-authors-6796
END:VEVENT

END:VCALENDAR
