BEGIN:VCALENDAR
VERSION:2.0
PRODID:-//ChamberMaster//Event Calendar 2.0//EN
METHOD:PUBLISH
X-PUBLISHED-TTL:P3D
REFRESH-INTERVAL:P3D
CALSCALE:GREGORIAN
BEGIN:VEVENT
DTSTART:20231210T020000Z
DTEND:20231210T050000Z
X-MICROSOFT-CDO-ALLDAYEVENT:FALSE
SUMMARY:Annual Pancake Breakfast
DESCRIPTION:Optimist of Richfield Presents their\n\nAnnual Pancake Breakfast\n\n\n\nFace Painting I Treat Bags I Games I Pancakes I Toys I Prizes
X-ALT-DESC;FMTTYPE=text/html:Optimist of Richfield Presents their<br />\nAnnual Pancake Breakfast<br />\n<br />\nFace Painting I Treat Bags I Games I Pancakes I Toys I Prizes
LOCATION:Oak Grove Lutheran Church 7045 Lyndale Avenue Richfield\, MN 55423
UID:e.1823.6651
SEQUENCE:3
DTSTAMP:20260422T171220Z
URL:https://directory.richfieldmnchamber.org/events/details/annual-pancake-breakfast-6651
END:VEVENT

END:VCALENDAR
