BEGIN:VCALENDAR
VERSION:2.0
PRODID:-//ChamberMaster//Event Calendar 2.0//EN
METHOD:PUBLISH
X-PUBLISHED-TTL:P3D
REFRESH-INTERVAL:P3D
CALSCALE:GREGORIAN
BEGIN:VEVENT
DTSTART:20231025T160000Z
DTEND:20231025T180000Z
X-MICROSOFT-CDO-ALLDAYEVENT:FALSE
SUMMARY:6 Step Roadmap to Elevate Your Nonprofit's Potential & Raise More Funds!
DESCRIPTION:Join us for a Transformative Opportunity: Coaching For A Cause Workshop for Nonprofit Leaders (Lunch provided!)
X-ALT-DESC;FMTTYPE=text/html:Join us for a Transformative Opportunity: Coaching For A Cause Workshop for Nonprofit Leaders (Lunch provided!)
LOCATION:Sovran Technology Solutions 2915 Commers Dr Eagan\, MN 55121
UID:e.1823.6648
SEQUENCE:3
DTSTAMP:20260422T183139Z
URL:https://directory.richfieldmnchamber.org/events/details/6-step-roadmap-to-elevate-your-nonprofit-s-potential-amp-raise-more-funds-6648
END:VEVENT

END:VCALENDAR
